BEGIN:VCALENDAR
VERSION:2.0
PRODID:-//Helmut Weinig - ECPv4.9.12//NONSGML v1.0//EN
CALSCALE:GREGORIAN
METHOD:PUBLISH
X-WR-CALNAME:Helmut Weinig
X-ORIGINAL-URL:https://www.systemcoaching-nordbayern.de
X-WR-CALDESC:Veranstaltungen im Helmut Weinig
BEGIN:VTIMEZONE
TZID:Europe/Berlin
BEGIN:DAYLIGHT
TZOFFSETFROM:+0100
TZOFFSETTO:+0200
TZNAME:CEST
DTSTART:20230326T010000
END:DAYLIGHT
BEGIN:STANDARD
TZOFFSETFROM:+0200
TZOFFSETTO:+0100
TZNAME:CET
DTSTART:20231029T010000
END:STANDARD
END:VTIMEZONE
BEGIN:VEVENT
DTSTART;TZID=Europe/Berlin:20230209T190000
DTEND;TZID=Europe/Berlin:20230209T210000
DTSTAMP:20260422T101848
CREATED:20230120T090904Z
LAST-MODIFIED:20230120T091539Z
UID:18832-1675969200-1675976400@www.systemcoaching-nordbayern.de
SUMMARY:Ängste und Sorgen vertreiben  u. dem Leben vertrauen ( Vortrag VHS Erlangen )
DESCRIPTION:Kennen Sie innere Nöte\, Sorgen und Ängste? Die wahrgenommene Dimension kann dabei sehr unterschiedlich sein. Aber warum haben die einen mehr Ängste als die anderen? Welche Bedingungen brauchen eigentlich unsere Sorgen und Ängste\, um gedeihen zu können? Haben Ängste und Sorgen einen Sinn oder sind sie nur eine Last und trennen uns von Liebe und Freude?\nWen diese Fragen interessieren und wer Antworten darauf sucht\, ist bei diesem Vortrag genau richtig.\nGemeinsam werden Sie an praktischen Lebenssituationen in das Wesen von Sorgen und Ängsten eintauchen und Wege der Wandlung bzw. Veränderung beleuchten. \nKostenlos\nNur mit Anmeldung über VHS Erlangen – begrenzte Teilnehmerzahl \n
URL:https://www.systemcoaching-nordbayern.de/event/aengste-und-sorgen-vertreiben-u-dem-leben-vertrauen-vortrag-vhs-erlangen/
LOCATION:VHS Erlangen\, Aula der VHS\, Erlangen\, 91054
CATEGORIES:Vortrag
END:VEVENT
END:VCALENDAR