BEGIN:VCALENDAR
VERSION:2.0
PRODID:-//Helmut Weinig - ECPv4.9.12//NONSGML v1.0//EN
CALSCALE:GREGORIAN
METHOD:PUBLISH
X-WR-CALNAME:Helmut Weinig
X-ORIGINAL-URL:https://www.systemcoaching-nordbayern.de
X-WR-CALDESC:Veranstaltungen im Helmut Weinig
BEGIN:VTIMEZONE
TZID:Europe/Berlin
BEGIN:DAYLIGHT
TZOFFSETFROM:+0100
TZOFFSETTO:+0200
TZNAME:CEST
DTSTART:20190331T010000
END:DAYLIGHT
BEGIN:STANDARD
TZOFFSETFROM:+0200
TZOFFSETTO:+0100
TZNAME:CET
DTSTART:20191027T010000
END:STANDARD
END:VTIMEZONE
BEGIN:VEVENT
DTSTART;TZID=Europe/Berlin:20190728T100000
DTEND;TZID=Europe/Berlin:20190728T160000
DTSTAMP:20260422T114336
CREATED:20190206T082538Z
LAST-MODIFIED:20190713T065801Z
UID:16376-1564308000-1564329600@www.systemcoaching-nordbayern.de
SUMMARY:Transformation & Heilung / Altes erlösen
DESCRIPTION:Liebe Freunde und Interessierte der ganzheitlichen Bewusstseinsentwicklung\,\nes ist heute vielen Menschen bekannt\, dass unser Bewusstsein sehr mit unseren gemachten Erfahrungen\nund unserer inneren gefühlten Welt korreliert. Meist operieren wir nur auf der Wirkungsebene\, obwohl\ndas Samenkorn in unserem Bewusstsein liegt.\nUnbewusste Überzeugungungen\, Prägungen\, Verstrickungen mit unserem Familienbewusstsein\, unerlöste\nGefühle zeigen sich in unserem Leben ( unsere Realität ) und wollen erlöst werden.\nAus der  Gegenwart entspringt die Zukunft und deshalb ist es wichtig\, die Gegenwart von Altem zu befreien.\nFrei zu sein bedeutet\, innere Verstrickungen aufzulösen und aus seinem höchsten Potenzial ein Leben\nin Frieden und innerer und äusserer Fülle zu erschaffen. Die LIEBE heilt alles…….. \nLeitgedanke : Wenn du wächst\, verlierst du nichts….du wirst immer mehr du SELBST \nIch lade diesbezüglich zu einem Transformations -und Heilungsseminar ein\, in dem wir Altes loslassen wollen\nund unser Bewusstsein neu ausrichten auf die Fülle des Lebens. \nTermin :   Sonntag\, den 28. Juli    von 10 – 16 Uhr         Ort :  Systeme im Wandel  – Am Schafberg 11 – 96193 Wachenroth\nKosten :   90 € \n\n \n[wpecr_registration_button] \n
URL:https://www.systemcoaching-nordbayern.de/event/begegnung-mit-der-seele-systemische-aufstellungen-10/
LOCATION:Systeme im Wandel\, Am Schafberg 11\, Wachenroth\, 96193\, Deutschland
CATEGORIES:Seminar
END:VEVENT
END:VCALENDAR