BEGIN:VCALENDAR
VERSION:2.0
PRODID:-//Helmut Weinig - ECPv4.9.12//NONSGML v1.0//EN
CALSCALE:GREGORIAN
METHOD:PUBLISH
X-WR-CALNAME:Helmut Weinig
X-ORIGINAL-URL:https://www.systemcoaching-nordbayern.de
X-WR-CALDESC:Veranstaltungen im Helmut Weinig
BEGIN:VTIMEZONE
TZID:Europe/Berlin
BEGIN:DAYLIGHT
TZOFFSETFROM:+0100
TZOFFSETTO:+0200
TZNAME:CEST
DTSTART:20200329T010000
END:DAYLIGHT
BEGIN:STANDARD
TZOFFSETFROM:+0200
TZOFFSETTO:+0100
TZNAME:CET
DTSTART:20201025T010000
END:STANDARD
END:VTIMEZONE
BEGIN:VEVENT
DTSTART;TZID=Europe/Berlin:20200830T090000
DTEND;TZID=Europe/Berlin:20200830T180000
DTSTAMP:20260422T101353
CREATED:20190615T132215Z
LAST-MODIFIED:20200819T045330Z
UID:16901-1598778000-1598810400@www.systemcoaching-nordbayern.de
SUMMARY:Begegnung mit der Seele / Systemische Aufstellungen
DESCRIPTION:alle aktiven Aufstellungs-Plätze vergeben   – alle Helfer / Stellvertreter -Plätze vergeben \nKonflikte lösen\, Ängste auflösen\, Selbstwert\, Kraft und Freude in sich finden und das Leben wieder besser gelingen lassen \nAktive Aufstellung mit eignem Thema :  180 €         Helfer/Schnupperer/Passiv : 20 € \nDas Leben will nicht mehr so gelingen ? Konflikte im Innen und en unser Glück ? \nHier kann eine Systemische Aufstellung wundervolles leisten. Da das Materielle ( unser Aussen )\ndurch Energie ( unser Innen\, unser Bewusstsein ) erschaffen wird\, ist eine Beschäftigung mit den\n“ Inneren Ursachen “ von zentraler Bedeutung.\nAlte Selbstabwertungs-Muster\, Übernommenes aus der Herkunftsfamilie und karmisch mitgebrachtes\ndrücken sich im Leben in den verschiedensten Bereichen aus. Diese Einschränkungen erfahren\nMenschen z.B. in den Lebensfeldern \n– Familie – Eltern / Kind\n– Unerfüllter Kinderwunsch\n– Liebe-Beziehung- Sexualität\n– Beruf-Karriere-Erfolg\n– Gesundheit – Krankheit\n– Geld-Finanzen\n– Selbstwert – Schuldgefühle \nBefreiung in diesen Lebensbereichen geschieht immer dann\, wenn die “ blockierende Ursache  “\ngefunden wird und diese in Liebe aufgelöst wird. Wo vorher Einschränkung und  Begrenzung\nwar\, kann sich das Leben jetzt wieder “ öffnen “ und Liebe\, Glück und Fülle zu uns bringen. \nDein Bewusstsein drückt sich in allem aus\, was ist. \nHinweis : Bitte Wollsocken und eine Brotzeit etc. für die Mittagspause mitbringen.\nGetränke ( Wasser\, Tee und Kaffee ) und kleine Zwischendurch-Leckerli kostenlos\nGeschirr und Besteck vorhanden\, ebenso steht ein Kühlschrank zur Verfügung. \nDie allemeinen Hygiene-Massnahmen gelten für diese Veranstaltung. \nHier bitte anmelden mit Angabe von Termin und Veranstaltung und Aktivaufstellung oder als Helfer/Stellvertreter \n\n
URL:https://www.systemcoaching-nordbayern.de/event/begegnung-mit-der-seele-systemische-aufstellungen-12/
LOCATION:Systeme im Wandel\, Am Schafberg 11\, Wachenroth\, 96193\, Deutschland
CATEGORIES:Systemische Aufstellung
END:VEVENT
END:VCALENDAR