BEGIN:VCALENDAR
VERSION:2.0
PRODID:-//Helmut Weinig - ECPv4.9.12//NONSGML v1.0//EN
CALSCALE:GREGORIAN
METHOD:PUBLISH
X-WR-CALNAME:Helmut Weinig
X-ORIGINAL-URL:https://www.systemcoaching-nordbayern.de
X-WR-CALDESC:Veranstaltungen im Helmut Weinig
BEGIN:VTIMEZONE
TZID:Europe/Berlin
BEGIN:DAYLIGHT
TZOFFSETFROM:+0100
TZOFFSETTO:+0200
TZNAME:CEST
DTSTART:20180325T010000
END:DAYLIGHT
BEGIN:STANDARD
TZOFFSETFROM:+0200
TZOFFSETTO:+0100
TZNAME:CET
DTSTART:20181028T010000
END:STANDARD
END:VTIMEZONE
BEGIN:VEVENT
DTSTART;TZID=Europe/Berlin:20180315T190000
DTEND;TZID=Europe/Berlin:20180315T211500
DTSTAMP:20260422T132125
CREATED:20180130T082832Z
LAST-MODIFIED:20180130T082832Z
UID:8902-1521140400-1521148500@www.systemcoaching-nordbayern.de
SUMMARY:Ihre Beziehungen sind Ihr Spiegel (Vortrag und Gespräch)
DESCRIPTION:\n\nKostenlos und ohne Anmeldung\n \n\nMehr Erfüllung in Beziehungen\nDer Mensch erfährt sich sehr tief im Bereich „Liebe – Beziehung – Partnerschaft“. Egal ob er keine Beziehung hat und sich eine wünscht oder ob Beziehungskonflikte das Glück trüben. Ist dieser Aspekt unseres Lebens nicht im Frieden\, erleben wir das durch ungute Gefühle bzw. wir verdrängen sogar unsere Gefühle. Egal\, welche Erfahrungen wir in unserem Leben machen\, sie gehören zu uns. Jede Beziehung bzw. Nichtbeziehung sagt etwas über uns aus\, sie ist ein Spiegel für uns. Wer diese Spiegelgesetze kennt und für sich nutzt\, kann seine Beziehungsstrukturen auf völlig neue Beine stellen. Wir müssen nur die Verantwortung dafür übernehmen und die Opferrolle verlassen. Dieser Vortrag will ihnen helfen\, diese Beziehungs-Spiegel zu erkennen und im Alltag zu nutzen. \nDer Referent arbeitet als systemisch-ganzheitlicher Coach und Berater. \n\n
URL:https://www.systemcoaching-nordbayern.de/event/ihre-beziehungen-sind-ihr-spiegel-vortrag-und-gespraech/
LOCATION:VHS Erlangen\, Historischer Saal\, Erlangen\, 91054
CATEGORIES:Vortrag
END:VEVENT
END:VCALENDAR